BEGIN:VCALENDAR
VERSION:2.0
PRODID:-//MARIONETARIUM - ECPv4.6.1//NONSGML v1.0//EN
CALSCALE:GREGORIAN
METHOD:PUBLISH
X-WR-CALNAME:MARIONETARIUM
X-ORIGINAL-URL:https://marionetarium.com
X-WR-CALDESC:Events for MARIONETARIUM
BEGIN:VEVENT
DTSTART;VALUE=DATE:20250102
DTEND;VALUE=DATE:20250106
DTSTAMP:20260423T084044
CREATED:20211202T152000Z
LAST-MODIFIED:20241127T144129Z
UID:2780-1735776000-1736121599@marionetarium.com
SUMMARY:Tibimarionetarium de Nadal
DESCRIPTION:Espectáculo de marionetas navideño protagonizado por los personajes más significativos del Marionetarium acompañados de otros clásicos\, y otros nuevos creados para la ocasión donde la música\, la nieve y las estrellas son también protagonistas. \nSinopsi: Espectacle nadalenc de marionetes\, protagonitzat pels personatges més significatius del Marionetarium acompanyats d’altres clàssics\, i amb altres de nou creats per a la ocasió\, on la música\, la neu i els estels són també protagonistes. \n \n
URL:https://marionetarium.com/evento/tibimarionetarium-de-nadal/
LOCATION:Plaça del Tibidabo\, 3\, 4\,\, Barcelona\, 08035\, España
END:VEVENT
END:VCALENDAR