BEGIN:VCALENDAR
VERSION:2.0
PRODID:-//MARIONETARIUM - ECPv4.6.1//NONSGML v1.0//EN
CALSCALE:GREGORIAN
METHOD:PUBLISH
X-WR-CALNAME:MARIONETARIUM
X-ORIGINAL-URL:https://marionetarium.com
X-WR-CALDESC:Events for MARIONETARIUM
BEGIN:VEVENT
DTSTART;VALUE=DATE:20241221
DTEND;VALUE=DATE:20241225
DTSTAMP:20260423T115932
CREATED:20221204T182215Z
LAST-MODIFIED:20241220T180632Z
UID:3136-1734739200-1735084799@marionetarium.com
SUMMARY:Tibimarionetarium de Nadal
DESCRIPTION:Espectáculo de marionetas navideño protagonizado por los personajes más significativos del Marionetarium acompañados de otros clásicos\, y otros nuevos creados para la ocasión donde la música\, la nieve y las estrellas son también protagonistas. \nSinopsi: Espectacle nadalenc de marionetes\, protagonitzat pels personatges més significatius del Marionetarium acompanyats d’altres clàssics\, i amb altres de nou creats per a la ocasió\, on la música\, la neu i els estels són també protagonistes. \n \n
URL:https://marionetarium.com/evento/tibimarionetarium-de-nadal-4/
LOCATION:Plaça del Tibidabo\, 3\, 4\,\, Barcelona\, 08035\, España
END:VEVENT
END:VCALENDAR