BEGIN:VCALENDAR
VERSION:2.0
PRODID:-//MARIONETARIUM - ECPv4.6.1//NONSGML v1.0//EN
CALSCALE:GREGORIAN
METHOD:PUBLISH
X-WR-CALNAME:MARIONETARIUM
X-ORIGINAL-URL:https://marionetarium.com
X-WR-CALDESC:Events for MARIONETARIUM
BEGIN:VEVENT
DTSTART;VALUE=DATE:20241111
DTEND;VALUE=DATE:20250101
DTSTAMP:20260425T115809
CREATED:20220615T064733Z
LAST-MODIFIED:20241107T125817Z
UID:2936-1731283200-1735689599@marionetarium.com
SUMMARY:Formación marionetista
DESCRIPTION:\n\n\n\n\n\n\n¿Quieres conocer el mundo de las marionetas?  \n\nSi tienes entre 18 y 29 años apúntate al taller profesional del Marionetarium del Parc d’Atraccions\nTibidabo.\n\nEn los talleres intensivos formamos futurxs colaboradorxs de la compañía como marionetistas.\n\nDeja tu currículum con tus datos personales y una breve exposición de tu motivación y disposición para participar en este taller:\n\nmarionetarium@gmail.com\n\n\n\n\n
URL:https://marionetarium.com/evento/taller-profesional-6/
END:VEVENT
END:VCALENDAR