BEGIN:VCALENDAR
VERSION:2.0
PRODID:-//MARIONETARIUM - ECPv4.6.1//NONSGML v1.0//EN
CALSCALE:GREGORIAN
METHOD:PUBLISH
X-WR-CALNAME:MARIONETARIUM
X-ORIGINAL-URL:https://marionetarium.com
X-WR-CALDESC:Events for MARIONETARIUM
BEGIN:VEVENT
DTSTART;VALUE=DATE:20241109
DTEND;VALUE=DATE:20241111
DTSTAMP:20260425T121554
CREATED:20240627T111107Z
LAST-MODIFIED:20241107T121930Z
UID:3384-1731110400-1731283199@marionetarium.com
SUMMARY:Marionetes amb Samfaina + visita tramoya
DESCRIPTION: \nLos fines de semana del 9 al 24 de noviembre\, durante la XI Mostra de Titelles del Parc d’Atraccions Tibidabo\, se puede visitar la tramoya una vez terminada la función. Una invitación a ver el escenario desde otra perspectiva: el puente de manipulación\, la estructura corredera con los títeres y los protagonistas de esta temporada. \nEspectáculo: Marionetas con Samfaina. Bròquil Samfaina y la Pruna son parte de este mágico viaje lleno de color\, emoción y sorpresas. \nhttps://tibidabo.cat/es/agenda/mes-de-las-marionetas \nFunciones sábados y domingos a las 13h\, 14h\, 16h\, 17h y 18h. ¡Nos vemos en el Marionetarium! \n  \n
URL:https://marionetarium.com/evento/marionetarium-18/
LOCATION:Plaça del Tibidabo\, 3\, 4\,\, Barcelona\, 08635\, España
END:VEVENT
END:VCALENDAR